BEGIN:VCALENDAR
VERSION:2.0
PRODID: -//Q4 Inc.//EN
METHOD:PUBLISH
BEGIN:VTIMEZONE
TZID:America/New_York
X-LIC-LOCATION:America/New_York
BEGIN:DAYLIGHT
TZOFFSETFROM:-0500
TZOFFSETTO:-0400
TZNAME:EDT
DTSTART:19700308T020000
RRULE:FREQ=YEARLY;BYMONTH=3;BYDAY=2SU
END:DAYLIGHT
BEGIN:STANDARD
TZOFFSETFROM:-0400
TZOFFSETTO:-0500
TZNAME:EST
DTSTART:19701101T020000
RRULE:FREQ=YEARLY;BYMONTH=11;BYDAY=1SU
END:STANDARD
END:VTIMEZONE
BEGIN:VEVENT
ORGANIZER:MAILTO:contactus@icl-group.com
DTSTART;TZID="America/New_York":20210728T060000
DTEND;TZID="America/New_York":20210728T080000
LOCATION:
UID:6dc19bc2-0a4a-4c09-afe1-f5210f73eaf6
DTSTAMP:20260421T103550
SUMMARY:Second Quarter 2021 Earnings Hebrew
DESCRIPTION: View More Information: https://investors.icl-group.com/reports-news-and-events/events/event-details/2021/Second-Quarter-2021-Earnings-Hebrew/default.aspx
URL;VALUE=URI:https://investors.icl-group.com/reports-news-and-events/events/event-details/2021/Second-Quarter-2021-Earnings-Hebrew/default.aspx
PRIORITY:5
CLASS:PUBLIC
END:VEVENT
END:VCALENDAR
