BEGIN:VCALENDAR
VERSION:2.0
PRODID: -//Q4 Inc.//EN
METHOD:PUBLISH
BEGIN:VTIMEZONE
TZID:America/New_York
X-LIC-LOCATION:America/New_York
BEGIN:DAYLIGHT
TZOFFSETFROM:-0500
TZOFFSETTO:-0400
TZNAME:EDT
DTSTART:19700308T020000
RRULE:FREQ=YEARLY;BYMONTH=3;BYDAY=2SU
END:DAYLIGHT
BEGIN:STANDARD
TZOFFSETFROM:-0400
TZOFFSETTO:-0500
TZNAME:EST
DTSTART:19701101T020000
RRULE:FREQ=YEARLY;BYMONTH=11;BYDAY=1SU
END:STANDARD
END:VTIMEZONE
BEGIN:VEVENT
ORGANIZER:MAILTO:contactus@icl-group.com
DTSTART;TZID="America/New_York":20221109T060000
DTEND;TZID="America/New_York":20221109T080000
LOCATION:
UID:0bf2dd58-3ea5-4a1d-9365-596c9d7f971e
DTSTAMP:20260421T193115
SUMMARY:Third Quarter 2022 Earnings Hebrew
DESCRIPTION: View More Information: https://investors.icl-group.com/reports-news-and-events/events/event-details/2022/Third-Quarter-2022-Earnings-Hebrew/default.aspx
URL;VALUE=URI:https://investors.icl-group.com/reports-news-and-events/events/event-details/2022/Third-Quarter-2022-Earnings-Hebrew/default.aspx
PRIORITY:5
CLASS:PUBLIC
END:VEVENT
END:VCALENDAR
